BEGIN:VCALENDAR
VERSION:2.0
PRODID:-//Elementor - ECPv6.15.20//NONSGML v1.0//EN
CALSCALE:GREGORIAN
METHOD:PUBLISH
X-WR-CALNAME:Elementor
X-ORIGINAL-URL:https://elementor.webvoorbeeld.eu
X-WR-CALDESC:Evenementen voor Elementor
REFRESH-INTERVAL;VALUE=DURATION:PT1H
X-Robots-Tag:noindex
X-PUBLISHED-TTL:PT1H
BEGIN:VTIMEZONE
TZID:Europe/Amsterdam
BEGIN:DAYLIGHT
TZOFFSETFROM:+0100
TZOFFSETTO:+0200
TZNAME:CEST
DTSTART:20250330T010000
END:DAYLIGHT
BEGIN:STANDARD
TZOFFSETFROM:+0200
TZOFFSETTO:+0100
TZNAME:CET
DTSTART:20251026T010000
END:STANDARD
BEGIN:DAYLIGHT
TZOFFSETFROM:+0100
TZOFFSETTO:+0200
TZNAME:CEST
DTSTART:20260329T010000
END:DAYLIGHT
BEGIN:STANDARD
TZOFFSETFROM:+0200
TZOFFSETTO:+0100
TZNAME:CET
DTSTART:20261025T010000
END:STANDARD
BEGIN:DAYLIGHT
TZOFFSETFROM:+0100
TZOFFSETTO:+0200
TZNAME:CEST
DTSTART:20270328T010000
END:DAYLIGHT
BEGIN:STANDARD
TZOFFSETFROM:+0200
TZOFFSETTO:+0100
TZNAME:CET
DTSTART:20271031T010000
END:STANDARD
END:VTIMEZONE
BEGIN:VEVENT
DTSTART;TZID=Europe/Amsterdam:20261129T150000
DTEND;TZID=Europe/Amsterdam:20261129T190000
DTSTAMP:20260420T130413
CREATED:20260417T055705Z
LAST-MODIFIED:20260417T074634Z
UID:10000001-1795964400-1795978800@elementor.webvoorbeeld.eu
SUMMARY:Burgemeester kookt 2026
DESCRIPTION:Burgemeester Kookt: festivaleditie 2026 \nOp zondagmiddag 29 november is het weer zover. Burgemeester Kookt keert terug. En dit jaar vieren we een bijzondere mijlpaal: 15 jaar Burgemeester Kookt in Nieuwegein. \n  \nBurgemeester Kookt is een initiatief van Lions Nieuwegein en brengt Nieuwegeinse inwoners\, ondernemers en maatschappelijke organisaties samen rondom één doel: impact maken voor goede doelen. Wat begon als een sfeervol diner\, is inmiddels uitgegroeid tot een jaarlijks evenement waar ontmoeting\, verbinding en betrokkenheid centraal staan. Met de inzet van vrijwilligers\, partners en sponsoren wordt ieder jaar een mooie opbrengst gerealiseerd.
URL:https://elementor.webvoorbeeld.eu/event/burgemeester-kookt-2026/
LOCATION:Nieuwegein\, Stadsplein 6\, Nieuwegein\, 3431 LZ\, Netherlands
ATTACH;FMTTYPE=image/png:https://elementor.webvoorbeeld.eu/wp-content/uploads/2026/04/Logo-Burgemeester-Kookt-Marijke-NEW-2026.png
ORGANIZER;CN="Lions Nieuwegein":MAILTO:nieuwegein@lions.nl
END:VEVENT
END:VCALENDAR